BEGIN:VCALENDAR
VERSION:2.0
PRODID:-//VTAS Fitness Centre - ECPv6.15.20//NONSGML v1.0//EN
CALSCALE:GREGORIAN
METHOD:PUBLISH
X-ORIGINAL-URL:https://vtasfitnesscentre.com
X-WR-CALDESC:Events for VTAS Fitness Centre
REFRESH-INTERVAL;VALUE=DURATION:PT1H
X-Robots-Tag:noindex
X-PUBLISHED-TTL:PT1H
BEGIN:VTIMEZONE
TZID:America/Edmonton
BEGIN:DAYLIGHT
TZOFFSETFROM:-0700
TZOFFSETTO:-0600
TZNAME:MDT
DTSTART:20200308T090000
END:DAYLIGHT
BEGIN:STANDARD
TZOFFSETFROM:-0600
TZOFFSETTO:-0700
TZNAME:MST
DTSTART:20201101T080000
END:STANDARD
BEGIN:DAYLIGHT
TZOFFSETFROM:-0700
TZOFFSETTO:-0600
TZNAME:MDT
DTSTART:20210314T090000
END:DAYLIGHT
BEGIN:STANDARD
TZOFFSETFROM:-0600
TZOFFSETTO:-0700
TZNAME:MST
DTSTART:20211107T080000
END:STANDARD
BEGIN:DAYLIGHT
TZOFFSETFROM:-0700
TZOFFSETTO:-0600
TZNAME:MDT
DTSTART:20220313T090000
END:DAYLIGHT
BEGIN:STANDARD
TZOFFSETFROM:-0600
TZOFFSETTO:-0700
TZNAME:MST
DTSTART:20221106T080000
END:STANDARD
END:VTIMEZONE
BEGIN:VEVENT
DTSTART;TZID=America/Edmonton:20210929T093000
DTEND;TZID=America/Edmonton:20210929T103000
DTSTAMP:20260424T154841
CREATED:20210910T094606Z
LAST-MODIFIED:20210910T094606Z
UID:2941-1632907800-1632911400@vtasfitnesscentre.com
SUMMARY:Seniors Fitness Program
DESCRIPTION:Free Seniors Fitness Program aimed at promoting the improvement of strength\, mobility\, flexibility and more for older adults\, while enjoying a fun\, supportive environment. (Must register your spot in advance!)
URL:https://vtasfitnesscentre.com/event/seniors-fitness-program-3/
END:VEVENT
BEGIN:VEVENT
DTSTART;TZID=America/Edmonton:20210922T104500
DTEND;TZID=America/Edmonton:20210922T114500
DTSTAMP:20260424T154841
CREATED:20210910T094459Z
LAST-MODIFIED:20210910T094459Z
UID:2939-1632307500-1632311100@vtasfitnesscentre.com
SUMMARY:Seniors Fitness Program
DESCRIPTION:Free Seniors Fitness Program aimed at promoting the improvement of strength\, mobility\, flexibility and more for older adults\, while enjoying a fun\, supportive environment. (Must register your spot in advance!)
URL:https://vtasfitnesscentre.com/event/seniors-fitness-program-2/
END:VEVENT
BEGIN:VEVENT
DTSTART;TZID=America/Edmonton:20210922T093000
DTEND;TZID=America/Edmonton:20210922T103000
DTSTAMP:20260424T154841
CREATED:20210910T094326Z
LAST-MODIFIED:20210910T094326Z
UID:2937-1632303000-1632306600@vtasfitnesscentre.com
SUMMARY:Seniors Fitness Program
DESCRIPTION:Free Seniors Fitness Program aimed at promoting the improvement of strength\, mobility\, flexibility and more for older adults\, while enjoying a fun\, supportive environment. (Must register your spot in advance!)
URL:https://vtasfitnesscentre.com/event/seniors-fitness-program/
END:VEVENT
END:VCALENDAR